Workbook

Sheet Generell info
A1: Sist oppdatert: | B1: 46279
A3: Følgende lokaliteter i Lerøy Aurora er sertifisert etter ASC-standarden
A4: Sessøya | B4: Tromsø kommune
A5: Langås | B5: Karlsøy kommune
A6: Futnes | B6: Karlsøy kommune
A7: Strandmo | B7: Karlsøy kommune
A8: Solheim | B8: Karlsøy kommune
A9: Dåvøya | B9: Karlsøy kommune
A10: Mjønes | B10: Karlsøy kommune
A11: Gourtesjohka | B11: Storfjord kommune
A12: Årøya | B12: Lyngen kommune
A13: Skarvestein | B13: Skjervøy kommune
A14: Follesøy | B14: Skjervøy kommune
A15: Vorterøyskagen | B15: Skjervøy kommune
... A22: Latvika | B22: Nesseby kommune
A25: Følgende lokaliteter ble ikke resertifisert pga. brakklegging for en periode
A26: Kågen | B26: Skjervøy kommune
A27: Åpenvika | B27: Sør-Varanger kommune
A28: Vorterøya | B28: Skjervøy kommune
A29: Karanes | B29: Karlsøy kommune
A31: Følgende lokalitet er ikke sertifisert etter ASC-standarden
A32: Angstauren | B32: Tromsø kommune
A33: Storbukt | B33: Sør-Varanger kommune
A34: Åpenvika | B34: Nesseby kommune
A35: Glimbukta | B35: Karlsøy kommune
A36: Tussøy | B36: Tromsø kommune

Sheet Lakseførende vassdrag
A2: I området rundt våre lokaliteter i Troms og Finnmark finnes følgende lakseførende vassdrag:
A4: Målselvvassdraget | B4: Målselv
A5: Reisavassdraget | B5: Nordreisa
A6: Oksfjordvassdraget | B6: Nordreisa
A7: Vannareidvassdraget | B7: Karlsøy
A8: Skipsfjordvassdraget | B8: Karlsøy
A9: Skogsfjordelva | B9: Karlsøy
A10: Signdalselva | B10: Storfjord
A11: Skibotnelva | B11: Storfjord
A12: Jægervatnet | B12: Lyngen
A13: Skittenelva | B13: Tromsø
A14: Tønsvikelva | B14: Tromsø
A15: Oldervikelva | B15: Tromsø
... A25: Bergebyelva | B25: Nesseby
A27: Info om elvene finnes på:
A28: www.inatur.no
A29: www.lakseelver.no
A30: www.reisaelva.no
A31: www.maalselva.no
A32: Troms og Finnmark - NVE
A33: Neidenelvens Fiskefellesskap
A34: Vestre Jakobselv jeger- og fiskeforening
A36: Havforskningsinstituttet (IMR) har ikke gjennomført tellinger på lakselus i disse områdene.
A37: Info fra IMR finnes på:
A38: http://www.imr.no/temasider/akvakultur/nb-no
A41: Fastsatt sensitiv periode for utvandring av laksesmolt er satt til:
... A53: https://brage.nina.no/nina-xmlui/handle/11250/3134162

Sheet Folkemøter
A1: Lerøy Aurora avholder regelmessig folkemøter/informasjonsmøter i sine driftsområder.
A3: Agenda for folkemøter:
B4: Generelt om selskapet
B5: Driftsområder
B6: Driftsplaner
B7: Lokal aktør/medspiller
B8: Ansatte i området
B9: Ringvirkninger
B10: Miljø/miljøpåvirkning
B11: Lakselus
B12: Rømming
B13: Fiskevelferd/fiskehelse
B14: Medikamenter
B15: Fiskefôr
... B19: Diskusjon og evt. spørsmål
A21: Interesseforeninger blir invitert og informert om planlagte møter.
A25: Gjennomføring:
A26: Skjervøy | B26: 46133
A27: Kåfjord | B27: 45771
A28: Lyngen | B28: 46133
A29: Tromsø | B29: 46246
A30: Lebesby | B30: 46078
A31: Karlsøy | B31: 46146
A32: Sør-Varanger | B32: 46147
A33: Nesseby | B33: 46146
A35: Det er mulig å melde sin interesse for gjennomføring av møter utover den foreløpige planen.
A36: Ta kontakt med:
A37: Jan-Børre Johansen, regionleder øst, telefon 91352553, e-mail: jan-boerre.johansen@leroyseafood.com
A38: Hans Christian Larsen, regionleder vest, telefon 41414838, e-mail: hans.larsen@leroyseafood.com
A39: Judith Sørflaten, driftssjef Laksefjord, telefon 97141164, e-mail: judith.soerflaten@leroyseafood.com
A41: I tillegg er det regelmessige/årlige møter med administrasjon/kommunestyre i de kommunene vi har aktivitet.
A42: Vi har også regelmessige informasjonsmøter med Fylkeskommunen, Fiskeridirektoratet og Mattilsynet.

Sheet Lausklubben 26G 
A1: ASC rapport
A2: Bedrift | E2: Lerøy Aurora
A3: Lokalitet | E3: Lausklubben
A4: Lokalitetsnummer | E4: 10753
A5: ASC status | E5: Sertifisert | J5: Type predator
A6: Sertifiseringsdato (førstegangs) | E6: 44907 | J6: Fiskemåke/Common gull (Larus canus)
A7: Siste resertifiseringsdato | E7: 44907 | J7: Gråmåke/European herring gull (Larus argentatus)
A8: Sertifikat gyldig til | J8: Kråke/Hooded crow (Corvus cornix)
A9: Produksjonsstart | E9: 46150 | J9: Ravn/ Raven (Corvus corax)
A10: Siste produksjonsslutt | J10: Skarv/ European shag (Phalacrocorax aristotelis)
A11: Siste oppdatering | E11: ='Generell info'!$B$1 -> 46279 | J11: Ærfugl/Common eider (Somateria mollissima)
A12: EUL 22G | E12: -0.001 | J12: Stokkand/Mallard (Anas platyrhynchos)
A13: EUL 24G | E13: 0.0003 | J13: Makrellterne/Common tern (Sterna hirundo)
A14: Mistanke om uidentifisert agens | E14: - | J14: Rødnebbterne/Arctic tern (Sterna paradisaea)
A15: Påvisning av OIE-meldepliktig sykdom | E15: - | J15: Alkekonge/Little auk (Alle alle)
A16: Antall rømt fisk | E16: 0 | J16: Svartbak/ (Larus marinus)
A19: Predatorer*
A20: Måned | B20: Måke | C20: Kråke | D20: Ravn | E20: Skarv | F20: annet | G20: Totalt
A21: 46143 | B21: 0 | C21: 0 | D21: 0 | E21: 0 | F21: 0 | G21: =SUM(B19:F19) -> 0
A22: 46174 | B22: 0 | C22: 0 | D22: 0 | E22: 0 | F22: 0 | G22: =SUM(B20:F20) -> 0
A23: 46204 | B23: 0 | C23: 0 | D23: 0 | E23: 0 | F23: 0 | G23: =SUM(B21:F21) -> 0
A24: 46235 | B24: 2 (avlivet) | C24: 0 | D24: 0 | E24: 0 | F24: 0 | G24: =SUM(B22:F22) -> 0
A26: *Predatorer (fugler) må av og til avlives på grunn av at de har satt seg fast i fuglenett eller blitt skadet på annen måte i og rundt anleggene.
A29: Lakselus - telles og rapporteres i henhold til myndighetskrav
A31: Oversikt BarentsWatch: | C31: Lausklubben (33777) | Fiskehelse Uke 46, 2022 - BarentsWatch

Sheet Solheim 26G
A1: ASC rapport
A2: Bedrift | E2: Lerøy Aurora
A3: Lokalitet | E3: Solheim
A4: Lokalitetsnummer | E4: 27476
A5: ASC status | E5: Sertifisert
A6: Sertifiseringsdato (førstegangs) | E6: 41736
A7: Siste resertifiseringsdato | E7: 45103
A8: Sertifikat gyldig til | E8: 47294
A9: Produksjonsstart | E9: 46182
A10: Produksjonsslutt
A11: Siste oppdatering | E11: ='Generell info'!$B$1 -> 46279
A12: EUL forrige generasjon | E12: 0.015
A13: EUL - 15G generasjon | E13: 0.037
A14: EUL - prosjekt 15G (Solheim/Strandmo) | E14: 0.035
A15: EUL - 17G Solheim | E15: -0.6
A16: EUL - 17G Prosjekt (Solheim/Strandmo) | E16: -0.002
A17: EUL - 19G Prosjekt (Solheim/Strandmo) | E17: 0.022
A18: EUL - 19G Solheim | E18: 0.026
A19: EUL - 22G Solheim | E19: -0.0157 | I19: Type predator
A20: EUL - 24G Solheim | E20: -0.0001 | I20: Fiskemåke/Common gull (Larus canus)
A21: Mistanke om uidentifisert agens | I21: Gråmåke/European herring gull (Larus argentatus)
A22: Påvisning av OIE-meldepliktig sykdom | I22: Kråke/Hooded crow (Corvus cornix)
A23: Antall rømt fisk | E23: 0 | I23: Ravn/ Raven (Corvus corax)
I24: Skarv/ European shag (Phalacrocorax aristotelis)
I25: Ærfugl/Common eider (Somateria mollissima)
A26: Predatorer* | I26: Stokkand/Mallard (Anas platyrhynchos)
A27: Solheim 26G | B27: Måke | C27: Kråke | D27: Ravn | E27: Skarv | F27: annet | G27: Totalt | I27: Makrellterne/Common tern (Sterna hirundo)
A28: 46203 | B28: 0 | C28: 0 | D28: 0 | E28: 0 | F28: 0 | G28: 0 | I28: Rødnebbterne/Arctic tern (Sterna paradisaea)
A29: 46234 | B29: 0 | C29: 0 | D29: 0 | E29: 0 | F29: 0 | G29: 0 | I29: Alkekonge/Little auk (Alle alle)
A30: 46265 | B30: 0 | C30: 0 | D30: 0 | E30: 0 | F30: 0 | G30: 0
A32: *Predatorer (fugler) må av og til avlives på grunn av at de har satt seg fast i fuglenett eller blitt skadet på annen måte i og rundt anleggene.
A35: Lakselus - telles og rapporteres i henhold til myndighetskrav
A37: Oversikt BarentcWatch: | C37: https://www.barentswatch.no/fiskehelse/locality/27476/2019/6

Sheet Langås 26G
A1: ASC rapport
A2: Bedrift | E2: Lerøy Aurora
A3: Lokalitet | E3: Langås
A4: Lokalitetsnummer | E4: 34457
A5: ASC status | E5: Sertifisert
A6: Sertifiseringsdato (førstegangs) | E6: 42228
A7: Siste resertifiseringsdato | E7: 45516
A8: Sertifikat gyldig til | E8: 46610
A9: Produksjonsstart | E9: 46117
A10: Produksjonsslutt
A11: Siste oppdatering | E11: ='Generell info'!$B$1 -> 46279
A12: EUL - prosjekt (Futnes/Langås) 14G | E12: 0.013
A13: EUL - Langås 16G | E13: -0.008
A14: EUL - prosjekt (Futnes/Langås) 16G | E14: -0.013 | J14: Type predator
A15: EUL - Langås 18G | E15: -0.025 | J15: Fiskemåke/Common gull (Larus canus)
A16: EUL - prosjekt (Langås/ Mjønes) 18G | E16: -0.015 | J16: Gråmåke/European herring gull (Larus argentatus)
A17: EUL - Langås 20G | E17: -0.003 | J17: Kråke/Hooded crow (Corvus cornix)
A18: EUL - Langås 22G | E18: 0.018 | J18: Ravn/ Raven (Corvus corax)
A19: EUL Langås 24G | E19: 0.0092 | J19: Skarv/ European shag (Phalacrocorax aristotelis)
A20: Mistanke om uidentifisert agens | E20: - | J20: Ærfugl/Common eider (Somateria mollissima)
A21: Påvisning av OIE-meldepliktig sykdom | E21: - | J21: Stokkand/Mallard (Anas platyrhynchos)
A22: Antall rømt fisk | E22: 0 | J22: Makrellterne/Common tern (Sterna hirundo)
J23: Rødnebbterne/Arctic tern (Sterna paradisaea)
A24: Predatorer* | J24: Alkekonge/Little auk (Alle alle)
A25: Måned | B25: Måke | C25: Kråke | D25: Ravn | E25: Skarv | F25: annet | G25: Totalt
A26: 46127 | B26: 0 | C26: 0 | D26: 0 | E26: 0 | F26: 0 | G26: 0
A27: 46157 | B27: 0 | C27: 0 | D27: 0 | E27: 0 | F27: 0 | G27: 0
A28: 46188 | B28: 0 | C28: 0 | D28: 0 | E28: 0 | F28: 0 | G28: 0
A29: 46218 | B29: 0 | C29: 0 | D29: 0 | E29: 0 | F29: 0 | G29: 0
A30: 46249 | B30: 0 | C30: 2 (selvdød) | D30: 0 | E30: 0 | F30: 0 | G30: 0
A32: *Predatorer (fugler) må av og til avlives på grunn av at de har satt seg fast i fuglenett eller blitt skadet på annen måte i og rundt anleggene.
A35: Lakselus - telles og rapporteres i henhold til myndighetskrav
C36: https://www.barentswatch.no/fiskehelse/locality/34457/2019/6
A37: Oversikt BarentsWatch

Sheet Sessøya 25G
A1: ASC rapport
A2: Bedrift | E2: Lerøy Aurora
A3: Lokalitet | E3: Sessøya
A4: Lokalitetsnummer | E4: 30877
A5: ASC status | E5: Sertifisert
A6: Sertifiseringsdato førstegangs | E6: 42228
A7: Resertifiseringsdato | E7: 45516
A8: Sertifikat gyldig til | E8: 46610
A9: Produksjonsstart | E9: 45971
A10: Produksjonsslutt | J10: Type predator
A11: Siste oppdatering | E11: ='Generell info'!$B$1 -> 46279 | J11: Fiskemåke/Common gull (Larus canus)
A12: EUL 16G | E12: 0.026 | J12: Gråmåke/European herring gull (Larus argentatus)
A13: EUL prosjekt 16G (Sessøya/Klokkardalen) | E13: 0.014 | J13: Kråke/Hooded crow (Corvus cornix)
A14: EUL 18G (lokalitet Sessøya og prosjekt) | E14: 0.024 | J14: Ravn/ Raven (Corvus corax)
A15: EUL 20G | E15: 0.044 | J15: Skarv/ European shag (Phalacrocorax aristotelis)
A16: EUL 21G | E16: 0.036 | J16: Ærfugl/Common eider (Somateria mollissima)
A17: EUL 23G | E17: 0.0126
A18: Mistanke om uidentifisert agens | E18: - | J18: Stokkand/Mallard (Anas platyrhynchos)
A19: Påvisning av OIE-meldepliktig sykdom | E19: - | J19: Makrellterne/Common tern (Sterna hirundo)
A20: Antall rømt fisk | E20: 0 | J20: Rødnebbterne/Arctic tern (Sterna paradisaea)
J21: Alkekonge/Little auk (Alle alle)
A22: Predatorer* | J22: Storskarv/Phalacrocorax carbo
A23: Måned | B23: Måke | C23: Kråke | D23: Ravn | E23: Skarv | F23: annet | G23: Totalt
A24: 45962 | B24: 0 | C24: 0 | D24: 0 | E24: 1 (avlivet) | F24: 0 | G24: 1
A25: 45992 | B25: 0 | C25: 0 | D25: 0 | E25: 1 (avlivet) | F25: 0 | G25: 1
A26: 45658 | B26: 0 | C26: 0 | D26: 0 | E26: 0 | F26: 0 | G26: 0
A27: 45689 | B27: 0 | C27: 0 | D27: 0 | E27: 0 | F27: 0 | G27: 0
A28: 46082 | B28: 0 | C28: 0 | D28: 0 | E28: 0 | F28: 0 | G28: 0
A29: 46113 | B29: 0 | C29: 0 | D29: 0 | E29: 0 | F29: 0 | G29: 0
A30: 46143 | B30: 0 | C30: 0 | D30: 0 | E30: 0 | F30: 0 | G30: 0
A31: 46174 | B31: 0 | C31: 0 | D31: 0 | E31: 1 (selvdød) | F31: 0 | G31: 1
A32: 46204 | B32: 0 | C32: 0 | D32: 0 | E32: 0 | F32: 0 | G32: 0
A33: 46235 | B33: 1 (avlivet) | C33: 0 | D33: 0 | E33: 0 | F33: 0 | G33: 1
A35: *Predatorer (fugler) må av og til avlives på grunn av at de har satt seg fast i fuglenett eller blitt skadet på annen måte i og rundt anleggene.
A38: Lakselus - telles og rapporteres i henhold til myndighetskrav
A40: Oversikt BarentsWatch: | C40: https://www.barentswatch.no/fiskehelse/locality/10735/2019/6

Sheet Tussøya 25G
A1: ASC rapport
A2: Bedrift | E2: Lerøy Aurora
A3: Lokalitet | E3: Tussøy
A4: Lokalitetsnummer | E4: 25855
A5: ASC status | E5: Ikke sertifisert
A6: Sertifiseringsdato | E6: 42682
A7: Resertifisering | E7: 44874
A8: Produksjonsstart | E8: 45950
A9: Produksjonsslutt
A10: Siste oppdatering | E10: ='Generell info'!$B$1 -> 46279
A11: EUL forrige generasjon 15G | E11: -0.006
A12: EUL 17G Tussøy | E12: 0.3%
A13: EUL 17G prosjekt (Tussøy og Angstauren) | E13: 0.011 | J13: Type predator
A14: EUL 21G | E14: 0.011 | J14: Fiskemåke/Common gull (Larus canus)
A15: Mistanke om uidentifisert agens | E15: - | J15: Gråmåke/European herring gull (Larus argentatus)
A16: Påvisning av OIE-meldepliktig sykdom | E16: - | J16: Kråke/Hooded crow (Corvus cornix)
A17: Antall rømt fisk | E17: 0 | J17: Ravn/ Raven (Corvus corax)
J18: Skarv/ European shag (Phalacrocorax aristotelis)
A19: Predatorer* | J19: Ærfugl/Common eider (Somateria mollissima)
A20: Måned | B20: Måke | C20: Kråke | D20: Ravn | E20: Skarv | F20: annet | G20: Totalt
A21: 45931 | B21: 0 | C21: 0 | D21: 0 | E21: 0 | F21: 0 | G21: 0 | J21: Stokkand/Mallard (Anas platyrhynchos)
A22: 45962 | B22: 0 | C22: 0 | D22: 0 | E22: 0 | F22: 0 | G22: 0 | J22: Makrellterne/Common tern (Sterna hirundo)
A23: 45992 | B23: 0 | C23: 0 | D23: 0 | E23: 0 | F23: 0 | G23: 0 | J23: Rødnebbterne/Arctic tern (Sterna paradisaea)
A24: 46023 | B24: 0 | C24: 0 | D24: 0 | E24: 0 | F24: 0 | G24: 0 | J24: Alkekonge/Little auk (Alle alle)
A25: 46054 | B25: 0 | C25: 0 | D25: 0 | E25: 0 | F25: 0 | G25: 0
A26: 46082 | B26: 0 | C26: 0 | D26: 0 | E26: 0 | F26: 0 | G26: 0
A27: 46113 | B27: 0 | C27: 0 | D27: 0 | E27: 0 | F27: 0 | G27: 0
A28: 46143 | B28: 0 | C28: 0 | D28: 0 | E28: 0 | F28: 0 | G28: 0
A29: 46174 | B29: 0 | C29: 0 | D29: 0 | E29: 0 | F29: 0 | G29: 0
A30: 46204 | B30: 0 | C30: 0 | D30: 0 | E30: 0 | F30: 0 | G30: 0
A31: 46235 | B31: 0 | C31: 0 | D31: 0 | E31: 0 | F31: 0 | G31: 0
A33: *Predatorer (fugler) må av og til avlives på grunn av at de har satt seg fast i fuglenett eller blitt skadet på annen måte i og rundt anleggene.
A36: Lakselus - telles og rapporteres i henhold til myndighetskrav
A38: Oversikt BarentsWatch: | C38: https://www.barentswatch.no/fiskehelse/locality/25855/2019/6

Sheet Klokkardalen 25G
A1: ASC rapport
A2: Bedrift | E2: Lerøy Aurora
A3: Lokalitet | E3: Klokkardalen
A4: Lokalitetsnummer | E4: 29476
A5: ASC status | E5: Sertifisert
A6: Sertifiseringsdato | E6: 42228
A7: Resertifiseringsdato | E7: 43324
A8: Resertifiseringsdato 2 | E8: 45629
A9: Sertifikat gyldig til | E9: 46723
A10: Produksjonsstart | E10: 45950
A11: Produksjonsslutt
A12: Siste oppdatering | E12: ='Generell info'!$B$1 -> 46279
A13: EUL forrige generasjon | E13: 0.034
A14: EUL 16G | E14: -0.002
A15: EUL 16G prosjekt (Sessøya/Klokkardalen) | E15: 0.026
A16: EUL 20 G | E16: 0.058
A17: EUL 23 G | E17: 0.0865
A18: Mistanke om uidentifisert agens | E18: - | I18: Type predator
A19: Påvisning av OIE-meldepliktig sykdom | E19: - | I19: Fiskemåke/Common gull (Larus canus)
A20: Antall rømt fisk | E20: 0 | I20: Gråmåke/European herring gull (Larus argentatus)
I21: Kråke/Hooded crow (Corvus cornix)
I22: Ravn/ Raven (Corvus corax)
A23: Predatorer* | I23: Skarv/ European shag (Phalacrocorax aristotelis)
A24: Måned | B24: Måke | C24: Kråke | D24: Ravn | E24: Skarv | F24: annet | G24: Totalt | I24: Ærfugl/Common eider (Somateria mollissima)
A25: 45931 | B25: 0 | C25: 0 | D25: 0 | E25: 0 | F25: 0 | G25: =SUM(B24:E24) -> 0 | I25: Stokkand/Mallard (Anas platyrhynchos)
A26: 45962 | B26: 0 | C26: 0 | D26: 0 | E26: 0 | F26: 0 | G26: =SUM(B25:E25) -> 0 | I26: Makrellterne/Common tern (Sterna hirundo)
A27: 45992 | B27: 0 | C27: 0 | D27: 0 | E27: 0 | F27: 0 | G27: =SUM(B26:E26) -> 0 | I27: Rødnebbterne/Arctic tern (Sterna paradisaea)
A28: 46023 | B28: 0 | C28: 0 | D28: 0 | E28: 0 | F28: 0 | G28: =SUM(B27:E27) -> 0 | I28: Alkekonge/Little auk (Alle alle)
A29: 46054 | B29: 0 | C29: 0 | D29: 0 | E29: 0 | F29: 0 | G29: =SUM(B28:E28) -> 0
A30: 46082 | B30: 0 | C30: 0 | D30: 0 | E30: 0 | F30: 0 | G30: =SUM(B29:E29) -> 0
A31: 46113 | B31: 0 | C31: 0 | D31: 0 | E31: 0 | F31: 0 | G31: =SUM(B30:E30) -> 0
A32: 46143 | B32: 0 | C32: 0 | D32: 0 | E32: 0 | F32: 0 | G32: =SUM(B31:E31) -> 0
A33: 46174 | B33: 0 | C33: 0 | D33: 0 | E33: 0 | F33: 0 | G33: =SUM(B32:E32) -> 0
A34: 46235 | B34: 1 (avlivet) | C34: 0 | D34: 0 | E34: 0 | F34: 0 | G34: 0
A36: *Predatorer (fugler) må av og til avlives på grunn av at de har satt seg fast i fuglenett eller blitt skadet på annen måte i og rundt anleggene.
A38: Lakselus - telles og rapporteres i henhold til myndighetskrav
A40: Oversikt lakselus: | C40: https://www.barentswatch.no/fiskehelse/locality/29476/2020/9

Sheet Glimbukta 25G
A1: ASC rapport
A2: Bedrift | E2: Lerøy Aurora
A3: Lokalitet | E3: Glimbukta
A4: Lokalitetsnummer | E4: 10754
A5: ASC status | E5: Ikke resertifisert
A6: Sertifiseringsdato | E6: 44609
A7: Produksjonsstart | E7: 45913
A8: Produksjonsslutt
A9: Siste oppdatering | E9: ='Generell info'!$B$1 -> 46279
A10: EUL 13G | E10: -0.076
A11: EUL 13G (Prosjekt Glimma, Strandmo, Årøya) | E11: 0.3%
A12: EUL 21G Glimbukta | E12: 0.076 | J12: Type predator
A13: EUL 21G (Prosjekt Glimbukta, Strandmo) | E13: 0.065 | J13: Fiskemåke/Common gull (Larus canus)
A14: Mistanke om uidentifisert agens | E14: - | J14: Gråmåke/European herring gull (Larus argentatus)
A15: Påvisning av OIE-meldepliktig sykdom | E15: - | J15: Kråke/Hooded crow (Corvus cornix)
A16: Antall rømt fisk | E16: 0 | J16: Ravn/ Raven (Corvus corax)
J17: Skarv/ European shag (Phalacrocorax aristotelis)
J18: Ærfugl/Common eider (Somateria mollissima)
A19: Predatorer* | J19: Stokkand/Mallard (Anas platyrhynchos)
A20: Måned | B20: Måke | C20: Kråke | D20: Ravn | E20: Skarv | F20: annet | G20: Totalt | J20: Makrellterne/Common tern (Sterna hirundo)
A21: 45901 | B21: 0 | C21: 0 | D21: 0 | E21: 0 | F21: 0 | G21: 0 | J21: Rødnebbterne/Arctic tern (Sterna paradisaea)
A22: 45931 | B22: 0 | C22: 0 | D22: 0 | E22: 0 | F22: 0 | G22: 0 | J22: Alkekonge/Little auk (Alle alle)
A23: 45962 | B23: 0 | C23: 0 | D23: 0 | E23: 0 | F23: 0 | G23: 0
A24: 45992 | B24: 0 | C24: 0 | D24: 0 | E24: 0 | F24: 0 | G24: 0
A25: 46023 | B25: 0 | C25: 0 | D25: 0 | E25: 0 | F25: 0 | G25: 0
A26: 46054 | B26: 0 | C26: 0 | D26: 0 | E26: 0 | F26: 0 | G26: 0
A27: 46082 | B27: 0 | C27: 0 | D27: 0 | E27: 0 | F27: 0 | G27: 0
A28: 46113 | B28: 0 | C28: 0 | D28: 0 | E28: 0 | F28: 0 | G28: 0
A29: 46143 | B29: 1 (avlivet) | C29: 0 | D29: 0 | E29: 0 | F29: 0 | G29: 1 | H29: 999349
B30: 1 (selvdød) | G30: 1 | H30: 997399
A31: 46174 | B31: 0 | C31: 0 | D31: 0 | E31: 0 | F31: 0 | G31: 0
A32: 46235 | B32: 2 (selvdød) | C32: 0 | D32: 0 | E32: 0 | F32: 0 | G32: 2 | H32: 1020751
A34: *Predatorer (fugler) må av og til avlives på grunn av at de har satt seg fast i fuglenett eller blitt skadet på annen måte i og rundt anleggene.
A37: Lakselus - telles og rapporteres i henhold til myndighetskrav
A39: Oversikt BarentsWatch: | C39: Lokalitet 10754 Glimbukta

Sheet Strandmo 25G
A1: ASC rapport
A2: Bedrift | E2: Lerøy Aurora
A3: Lokalitet | E3: Strandmo
A4: Lokalitetsnummer | E4: 10753
A5: ASC status | E5: Sertifisert
A6: Sertifiseringsdato | E6: 41964
A7: Siste resertifisering | E7: 45252
A8: Produksjonsstart | E8: 45905
A9: Produksjonsslutt
A10: Siste oppdatering | E10: ='Generell info'!$B$1 -> 46279
A11: EUL 23G Strandmo | E11: 0.046
A12: EUL 19G Strandmo | E12: 0.012
A13: EUL 19G Strandmo/ Solheim prosjekt | E13: 0.022
A14: EUL 21G Strandmo | E14: 0.057 | J14: Type predator
A15: EUL 21G Strandmo/ Glimbukta prosjekt | E15: 0.065 | J15: Fiskemåke/Common gull (Larus canus)
A16: Mistanke om uidentifisert agens | E16: - | J16: Gråmåke/European herring gull (Larus argentatus)
A17: Påvisning av OIE-meldepliktig sykdom | E17: - | J17: Kråke/Hooded crow (Corvus cornix)
A18: Antall rømt fisk | E18: 0 | J18: Ravn/ Raven (Corvus corax)
J19: Skarv/ European shag (Phalacrocorax aristotelis)
J20: Ærfugl/Common eider (Somateria mollissima)
A21: Predatorer* | J21: Stokkand/Mallard (Anas platyrhynchos)
A22: Måned | B22: Måke | C22: Kråke | D22: Ravn | E22: Skarv | F22: Annet | G22: Totalt | J22: Makrellterne/Common tern (Sterna hirundo)
A23: 45901 | B23: 0 | C23: 0 | D23: 0 | E23: 0 | F23: 0 | G23: 0 | J23: Rødnebbterne/Arctic tern (Sterna paradisaea)
A24: 45931 | B24: 0 | C24: 0 | D24: 0 | E24: 0 | F24: 0 | G24: 0 | J24: Alkekonge/Little auk (Alle alle)
A25: 45962 | B25: 0 | C25: 0 | D25: 0 | E25: 0 | F25: 0 | G25: 0 | J25: Svartbak (Larus marinus)
A26: 45992 | B26: 0 | C26: 0 | D26: 0 | E26: 0 | F26: 0 | G26: 0
A27: 46023 | B27: 0 | C27: 0 | D27: 0 | E27: 0 | F27: 0 | G27: 0
A28: 46054 | B28: 0 | C28: 0 | D28: 0 | E28: 0 | F28: 0 | G28: 0
A29: 46082 | B29: 0 | C29: 0 | D29: 0 | E29: 0 | F29: 0 | G29: 0
A30: 46113 | B30: 0 | C30: 0 | D30: 0 | E30: 0 | F30: 0 | G30: 0
A31: 46143 | B31: 0 | C31: 0 | D31: 0 | E31: 0 | F31: 0 | G31: 0
A32: 46174 | B32: 1 (selvdød) | C32: 0 | D32: 0 | E32: 0 | F32: 0 | G32: 0 | H32: 999385
A33: 46204 | B33: 0 | C33: 0 | D33: 0 | E33: 0 | F33: 0 | G33: 0
A34: 46235 | B34: 0 | C34: 0 | D34: 0 | E34: 0 | F34: 0 | G34: 0
A36: *Predatorer (fugler) må av og til avlives på grunn av at de har satt seg fast i fuglenett eller blitt skadet på annen måte i og rundt anleggene.
A39: Lakselus - telles og rapporteres i henhold til myndighetskrav
A41: Oversikt BarentsWatch: | C41: Lokalitet 10753 Strandmo

Sheet Futnes 25G
A1: ASC rapport
A2: Bedrift | E2: Lerøy Aurora
A3: Lokalitet | E3: Futnes
A4: Lokalitetsnummer | E4: 10747
A5: ASC status | E5: Sertifisert
A6: Sertifiseringsdato | E6: 42228
A7: Resertifiseringsdato | E7: 45516
A8: Sertifikat gyldig til | E8: 46610
A9: Produksjonsstart | E9: 05.09.202
A10: Produksjonsslutt | E10: 45647
A11: Siste oppdatering | E11: ='Generell info'!$B$1 -> 46279
A12: EUL - Futnes 16G | E12: -0.02
A13: EUL - Futnes 21G | E13: 0.009 | J13: Type predator
A14: EUL - Futnes 23G | E14: 0.0004 | J14: Fiskemåke/Common gull (Larus canus)
A15: Mistanke om uidentifisert agens | E15: - | J15: Gråmåke/European herring gull (Larus argentatus)
A16: Påvisning av OIE-meldepliktig sykdom | E16: - | J16: Kråke/Hooded crow (Corvus cornix)
A17: Antall rømt fisk | E17: 0 | J17: Ravn/ Raven (Corvus corax)
J18: Skarv/ European shag (Phalacrocorax aristotelis)
J19: Ærfugl/Common eider (Somateria mollissima)
A20: Predatorer* | J20: Stokkand/Mallard (Anas platyrhynchos)
A21: Måned | B21: Måke | C21: Kråke | D21: Ravn | E21: Skarv | F21: Annet | G21: Totalt | J21: Makrellterne/Common tern (Sterna hirundo)
A22: 45901 | B22: 0 | C22: 0 | D22: 0 | E22: 0 | F22: 0 | G22: 0 | J22: Rødnebbterne/Arctic tern (Sterna paradisaea)
A23: 45931 | B23: 0 | C23: 0 | D23: 0 | E23: 0 | F23: 0 | G23: 0 | J23: Alkekonge/Little auk (Alle alle)
A24: 45962 | B24: 0 | C24: 0 | D24: 0 | E24: 0 | F24: 0 | G24: 0 | J24: Svartbak/Larus marinus
A25: 45992 | B25: 0 | C25: 0 | D25: 0 | E25: 0 | F25: 0 | G25: 0
A26: 46023 | B26: 0 | C26: 0 | D26: 0 | E26: 0 | F26: 0 | G26: 0
A27: 46054 | B27: 0 | C27: 0 | D27: 0 | E27: 0 | F27: 0 | G27: 0
A28: 46082 | B28: 0 | C28: 0 | D28: 0 | E28: 0 | F28: 0 | G28: 0
A29: 46113 | B29: 1 | C29: 0 | D29: 0 | E29: 0 | F29: 0 | G29: 1 | H29: ID996499
A30: 46143 | B30: 1 (Avlivet) | C30: 0 | D30: 0 | E30: 0 | F30: 0 | G30: 0 | H30: 999262
A31: 46174 | B31: 0 | C31: 0 | D31: 0 | E31: 0 | F31: 0 | G31: 0
A32: 46204 | B32: 0 | C32: 0 | D32: 0 | E32: 0 | F32: 0 | G32: 0
A33: 46235 | B33: 0 | C33: 0 | D33: 0 | E33: 0 | F33: 0 | G33: 0
A34: 46266 | B34: 1 (selvdød) | C34: 0 | D34: 0 | E34: 0 | F34: 0 | G34: 1
A36: *Predatorer (fugler) må av og til avlives på grunn av at de har satt seg fast i fuglenett eller blitt skadet på annen måte i og rundt anleggene.
A38: Lakselus - telles og rapporteres i henhold til myndighetskrav
A40: Oversikt BarentsWatch: | C40: Lokalitet Futnes 10747

Sheet Vorterøyskagen 25G
A1: ASC rapport
A2: Bedrift | E2: Lerøy Aurora
A3: Lokalitet | E3: Vorterøyskagen
A4: Lokalitetsnummer | E4: 45083
A5: ASC status | E5: Sertifisert
A6: Sertifiseringsdato (førstegangs) | E6: 45511
A7: Sertifikat gyldig til | E7: 46605
A8: Produksjonsstart | E8: 45839 | I8: Type predator
A9: Produksjonsslutt | I9: Fiskemåke/Common gull (Larus canus)
A10: Siste oppdatering | E10: ='Generell info'!$B$1 -> 46279 | I10: Gråmåke/European herring gull (Larus argentatus)
A11: EUL 23G Vorterøyskagen | E11: 0.0003 | I11: Kråke/Hooded crow (Corvus cornix)
A12: Mistanke om uidentifisert agens | E12: - | I12: Ravn/ Raven (Corvus corax)
A13: Påvisning av OIE-meldepliktig sykdom | E13: - | I13: Skarv/ European shag (Phalacrocorax aristotelis)
A14: Antall rømt fisk | E14: 0 | I14: Ærfugl/Common eider (Somateria mollissima)
I16: Stokkand/Mallard (Anas platyrhynchos)
I17: Makrellterne/Common tern (Sterna hirundo)
A18: Angstauren 17G | B18: Måke | C18: Kråke | D18: Ravn | E18: Skarv | F18: Annet | G18: Totalt | I18: Rødnebbterne/Arctic tern (Sterna paradisaea)
A19: 45839 | B19: 0 | C19: 0 | D19: 0 | E19: 0 | F19: 0 | G19: 0 | I19: Alkekonge/Little auk (Alle alle)
A20: 45870 | B20: 2 (12.08 og 24.08 - selvdød) | C20: 0 | D20: 0 | E20: 0 | F20: 0 | G20: 2
A21: 45901 | B21: 1 (01.09 - selvdød) | C21: 0 | D21: 0 | E21: 0 | F21: 0 | G21: 1
A22: 45931 | B22: 0 | C22: 0 | D22: 0 | E22: 0 | F22: 0 | G22: 0
A23: 45962 | B23: 0 | C23: 0 | D23: 0 | E23: 0 | F23: 0 | G23: 0
A24: 45992 | B24: 0 | C24: 0 | D24: 0 | E24: 0 | F24: 0 | G24: 0
A25: 46023 | B25: 0 | C25: 0 | D25: 0 | E25: 0 | F25: 0 | G25: 0
A26: 46054 | B26: 0 | C26: 0 | D26: 0 | E26: 0 | F26: 0 | G26: 0
A27: 46082 | B27: 0 | C27: 0 | D27: 0 | E27: 0 | F27: 0 | G27: 0
A28: 46113 | B28: 0 | C28: 0 | D28: 0 | E28: 0 | F28: 0 | G28: 0
A29: 46143 | B29: 0 | C29: 0 | D29: 0 | E29: 0 | F29: 0 | G29: 0
A30: 46174 | B30: 0 | C30: 0 | D30: 0 | E30: 0 | F30: 0 | G30: 0
A31: 46204 | B31: 0 | C31: 0 | D31: 0 | E31: 0 | F31: 0 | G31: 0
A32: 46235 | B32: 0 | C32: 0 | D32: 0 | E32: 0 | F32: 0 | G32: 0
A36: *Predatorer (fugler) må av og til avlives på grunn av at de har satt seg fast i fuglenett eller blitt skadet på annen måte i og rundt anleggene.
A39: Lakselus - telles og rapporteres i henhold til myndighetskrav
A40: Oversikt BarentsWatch: | C40: Vorterøyskagen (45083) | Fiskehelse - BarentsWatch

Sheet Kåvika 25G
A1: ASC rapport
A2: Bedrift | E2: Lerøy Aurora
A3: Lokalitet | E3: Kåvika
A4: Lokalitetsnummer | E4: 16736
A5: ASC status | E5: Sertifisert
A6: Sertifiseringsdato (førstegangs) | E6: 43195
A7: Siste resertifiseringsdato | E7: 45548
A8: Sertifikat gyldig til | E8: 46642
A9: Produksjonsstart | E9: 45843
A10: Produksjonsslutt
A11: Siste oppdatering | E11: ='Generell info'!$B$1 -> 46279
A12: EUL forrige generasjon 11G | E12: -0.027
A13: EUL 17G (prosjekt Årøya/Kågen/Kåvika) | E13: 0.017
A14: EUL 17G (Prosjekt, kun Årøya (1 merd)) | E14: 0.004
A15: EUL 17G (Prosjekt, kun Kågen) | E15: -0.009
A16: EUL 18G (Kåvika) | E16: 0.008
A17: EUL 18G (prosjekt Kåvika/Skarvestein/ Årøya) | E17: 0.008
A18: EUL 21G Kåvika | E18: -0.006
A19: EUL 23G Kåvika | E19: 0.015
A20: Mistanke om uidentifisert agens | E20: -
A21: Påvisning av OIE-meldepliktig sykdom | E21: - | I21: Type predator
A22: Antall rømt fisk | E22: 0 | I22: Fiskemåke/Common gull (Larus canus)
I23: Gråmåke/European herring gull (Larus argentatus)
I24: Kråke/Hooded crow (Corvus cornix)
I25: Ravn/ Raven (Corvus corax)
I26: Skarv/ European shag (Phalacrocorax aristotelis)
A27: Predatorer* | I27: Ærfugl/Common eider (Somateria mollissima)
A28: Måned | B28: Måke | C28: Kråke | D28: Ravn | E28: Skarv | F28: annet | G28: Totalt
A29: 45839 | B29: 0 | C29: 0 | D29: 0 | E29: 0 | F29: 0 | G29: 0 | I29: Stokkand/Mallard (Anas platyrhynchos)
A30: 45870 | B30: 0 | C30: 0 | D30: 0 | E30: 0 | F30: 0 | G30: 0 | I30: Makrellterne/Common tern (Sterna hirundo)
A31: 45901 | B31: 0 | C31: 0 | D31: 0 | E31: 0 | F31: 0 | G31: 0 | I31: Rødnebbterne/Arctic tern (Sterna paradisaea)
A32: 45931 | B32: 2 (22.10) selvdød og avlivet | C32: 0 | D32: 0 | E32: 0 | F32: 0 | G32: 2 | I32: Alkekonge/Little auk (Alle alle)
A33: 45962 | B33: 0 | C33: 0 | D33: 0 | E33: 0 | F33: 0 | G33: 0
A34: 45992 | B34: 0 | C34: 0 | D34: 0 | E34: 0 | F34: 0 | G34: 0
A35: 46023 | B35: 0 | C35: 0 | D35: 0 | E35: 0 | F35: 0 | G35: 0
A36: 46054 | B36: 0 | C36: 0 | D36: 0 | E36: 0 | F36: 0 | G36: 0
A37: 46082 | B37: 0 | C37: 0 | D37: 0 | E37: 0 | F37: 0 | G37: 0
A38: 46113 | B38: 0 | C38: 0 | D38: 0 | E38: 0 | F38: 0 | G38: 0
A39: 46143 | B39: 0 | C39: 0 | D39: 0 | E39: 0 | F39: 0 | G39: 0
A40: 46174 | B40: 0 | C40: 0 | D40: 0 | E40: 0 | F40: 0 | G40: 0
...

Sheet Spergittklubben 25G
A1: ASC rapport
A2: Bedrift | E2: Lerøy Aurora
A3: Lokalitet | E3: Spergittklubben
A4: Lokalitetsnummer | E4: 10753
A5: ASC status | E5: Sertifisert
A6: Sertifiseringsdato (førstegangs) | E6: 44790
A7: Sertifikat gyldig til | E7: 46981
A8: Siste resertifiseringsdato | E8: 45898
A9: Produksjonsstart | E9: 45797
A10: Siste produksjonsslutt
A11: Siste oppdatering | E11: ='Generell info'!$B$1 -> 46279
A12: EUL 23G | E12: 0.002
A13: EUL 21G | E13: 0.007
A14: Mistanke om uidentifisert agens | E14: -
A15: Påvisning av OIE-meldepliktig sykdom | E15: -
A16: Antall rømt fisk | E16: 0
I20: Type predator
A21: Predatorer* | I21: Fiskemåke/Common gull (Larus canus)
A22: Måned | B22: Måke | C22: Kråke | D22: Ravn | E22: Skarv | F22: annet | G22: Totalt | I22: Gråmåke/European herring gull (Larus argentatus)
A23: 45778 | B23: 0 | C23: 0 | D23: 0 | E23: 0 | F23: 0 | G23: 0 | I23: Kråke/Hooded crow (Corvus cornix)
A24: 45809 | B24: 0 | C24: 0 | D24: 0 | E24: 0 | F24: 0 | G24: 0 | I24: Ravn/ Raven (Corvus corax)
A25: 45839 | B25: 0 | C25: 0 | D25: 0 | E25: 0 | F25: 0 | G25: 0 | I25: Skarv/ European shag (Phalacrocorax aristotelis)
A26: 45870 | B26: 0 | C26: 0 | D26: 0 | E26: 0 | F26: 0 | G26: 0 | I26: Ærfugl/Common eider (Somateria mollissima)
A27: 45901 | B27: 0 | C27: 0 | D27: 0 | E27: 0 | F27: 0 | G27: 0 | I27: Stokkand/Mallard (Anas platyrhynchos)
A28: 45931 | B28: 0 | C28: 0 | D28: 0 | E28: 0 | F28: 0 | G28: 0 | I28: Makrellterne/Common tern (Sterna hirundo)
A29: 45962 | B29: 0 | C29: 0 | D29: 0 | E29: 0 | F29: 0 | G29: 0 | I29: Rødnebbterne/Arctic tern (Sterna paradisaea)
A30: 45992 | B30: 0 | C30: 0 | D30: 0 | E30: 0 | F30: 0 | G30: 0 | I30: Alkekonge/Little auk (Alle alle)
A31: 46023 | B31: 0 | C31: 0 | D31: 0 | E31: 0 | F31: 0 | G31: 0
A32: 46054 | B32: 0 | C32: 0 | D32: 0 | E32: 0 | F32: 0 | G32: 0
A33: 46082 | B33: 0 | C33: 0 | D33: 0 | E33: 0 | F33: 0 | G33: 0
A34: 46113 | B34: 0 | C34: 0 | D34: 0 | E34: 0 | F34: 0 | G34: 0
A35: 46143 | B35: 0 | C35: 0 | D35: 0 | E35: 0 | F35: 0 | G35: 0
A36: 46174 | B36: 0 | C36: 0 | D36: 0 | E36: 0 | F36: 0 | G36: 0
A37: 46204 | B37: 0 | C37: 0 | D37: 0 | E37: 0 | F37: 0 | G37: 0
A38: 46235 | B38: 0 | C38: 0 | D38: 0 | E38: 0 | F38: 0 | G38: 0
A40: *Predatorer (fugler) må av og til avlives på grunn av at de har satt seg fast i fuglenett eller blitt skadet på annen måte i og rundt anleggene.
A43: Lakselus - telles og rapporteres i henhold til myndighetskrav
A44: Oversikt BarentsWatch: | C44: Spergittklubben (13865)

Sheet Skarvfjell 25G
A1: ASC rapport
A2: Bedrift | E2: Lerøy Aurora
A3: Lokalitet | E3: Skarvfjell
A4: Lokalitetsnummer | E4: 16255
A5: ASC status | E5: Sertifisert
A6: Sertifiseringsdato (førstegangs) | E6: 44790
A7: Sertifikat gyldig til | E7: 46981
A8: Siste resertifiseringsdato | E8: 45899
A9: Produksjonsstart | E9: 45799
A10: Produksjonsslutt
A11: Siste oppdatering | E11: ='Generell info'!$B$1 -> 46279
A12: EUL 23G | E12: 0.002
A13: EUL 21G | E13: -0.001
A14: EUL prosjekt (Skarvfjell og Spergittklubben) | E14: -0.003
A15: Mistanke om uidentifisert agens | E15: -
A16: Påvisning av OIE-meldepliktig sykdom | E16: -
A17: Antall rømt fisk | E17: 0
I19: Type predator
I20: Fiskemåke/Common gull (Larus canus)
I21: Gråmåke/European herring gull (Larus argentatus)
A22: Predatorer* | I22: Kråke/Hooded crow (Corvus cornix)
A23: Måned | B23: Måke | C23: Kråke | D23: Ravn | E23: Skarv | F23: Annet | G23: Totalt | I23: Ravn/ Raven (Corvus corax)
A24: 45778 | B24: 0 | C24: 0 | D24: 0 | E24: 0 | F24: 0 | G24: 0 | I24: Skarv/ European shag (Phalacrocorax aristotelis)
A25: 45809 | B25: 0 | C25: 0 | D25: 0 | E25: 0 | F25: 0 | G25: 0 | I25: Ærfugl/Common eider (Somateria mollissima)
A26: 45839 | B26: 0 | C26: 0 | D26: 0 | E26: 0 | F26: 0 | G26: 0 | I26: Stokkand/Mallard (Anas platyrhynchos)
A27: 45870 | B27: 0 | C27: 0 | D27: 0 | E27: 0 | F27: 0 | G27: 0 | I27: Makrellterne/Common tern (Sterna hirundo)
A28: 45901 | B28: 0 | C28: 0 | D28: 0 | E28: 0 | F28: 0 | G28: 0 | I28: Rødnebbterne/Arctic tern (Sterna paradisaea)
A29: 45931 | B29: 0 | C29: 0 | D29: 0 | E29: 0 | F29: 0 | G29: 0
A30: 45962 | B30: 0 | C30: 0 | D30: 0 | E30: 0 | F30: 0 | G30: 0
A31: 45992 | B31: 0 | C31: 0 | D31: 0 | E31: 0 | F31: 0 | G31: 0
A32: 46023 | B32: 0 | C32: 0 | D32: 0 | E32: 0 | F32: 0 | G32: 0
A33: 46054 | B33: 0 | C33: 0 | D33: 0 | E33: 0 | F33: 0 | G33: 0
A34: 46082 | B34: 0 | C34: 0 | D34: 0 | E34: 0 | F34: 0 | G34: 0
A35: 46113 | B35: 1 (24.04) | C35: 0 | D35: 0 | E35: 0 | F35: 0 | G35: 1 | H35: ID 995531
A36: 46143 | B36: 0 | C36: 0 | D36: 0 | E36: 0 | F36: 0 | G36: 0
A37: 46174 | B37: 0 | C37: 0 | D37: 0 | E37: 0 | F37: 0 | G37: 0
A38: 46204 | B38: 0 | C38: 0 | D38: 0 | E38: 0 | F38: 0 | G38: 0
A39: 46235 | B39: 0 | C39: 0 | D39: 0 | E39: 0 | F39: 0 | G39: 0
A41: *Predatorer (fugler) må av og til avlives på grunn av at de har satt seg fast i fuglenett eller blitt skadet på annen måte i og rundt anleggene.
A44: Lakselus - telles og rapporteres i henhold til myndighetskrav
...

Sheet Follesøy 25G
A1: ASC rapport
A2: Bedrift | E2: Lerøy Aurora
A3: Lokalitet | E3: Follesøy
A4: Lokalitetsnummer | E4: 35597
A5: ASC status | E5: Sertifisert
A6: Sertifiseringsdato (førstegangs) | E6: 42871
A7: Siste resertifiseringsdato | E7: 45511
A8: Sertifikat gyldig til | E8: 46605
A9: Produksjonsstart | E9: 45763
A10: Produksjonsslutt
A11: Siste oppdatering | E11: ='Generell info'!$B$1 -> 46279
A12: EUL 23G | E12: 0.05
A13: EUL - 19G Follesøy | E13: -0.002
A14: EUL - prosjekt 19G (Årøya/Vorterøya/Follesøy) | E14: -0.002
A15: EUL - 17G Follesøy | E15: 0.012
A16: EUL - prosjekt 17G (Gourtesjohka/Follesøy/Vorterøya) | E16: 0.015
A17: EUL - 16G | E17: -0.014
A18: Mistanke om uidentifisert agens | E18: -
A19: Påvisning av OIE-meldepliktig sykdom | E19: - | I19: Type predator
A20: Antall rømt fisk | E20: 0 | I20: Fiskemåke/Common gull (Larus canus)
I21: Gråmåke/European herring gull (Larus argentatus)
I22: Kråke/Hooded crow (Corvus cornix)
I23: Ravn/ Raven (Corvus corax)
A24: Predatorer* | I24: Skarv/ European shag (Phalacrocorax aristotelis)
A25: Måned | B25: Måke | C25: Kråke | D25: Ravn | E25: Skarv | F25: Annet | G25: Totalt | I25: Ærfugl/Common eider (Somateria mollissima)
A26: 45763 | B26: 0 | C26: 0 | D26: 0 | E26: 0 | F26: 0 | G26: 0 | I26: Stokkand/Mallard (Anas platyrhynchos)
A27: 45793 | B27: 0 | C27: 0 | D27: 0 | E27: 0 | F27: 0 | G27: 0 | I27: Makrellterne/Common tern (Sterna hirundo)
A28: 45824 | B28: 0 | C28: 0 | D28: 0 | E28: 0 | F28: 0 | G28: 0 | I28: Rødnebbterne/Arctic tern (Sterna paradisaea)
A29: 45854 | B29: 0 | C29: 0 | D29: 0 | E29: 0 | F29: 1 rødnebbterne (sterna paradisea), 1 havelle (clangula hyemalis), 5 lundefugl (fratercula arctica) 04.07.25 - ifb. gjenfangstfiske | G29: 7 | H29: ID934667 | I29: Alkekonge/Little auk (Alle alle)
A30: 45885 | B30: 0 | C30: 0 | D30: 0 | E30: 0 | F30: 0 | G30: 0 | I30: Alke/Razorbill (Alca torda)
A31: 45916 | B31: 0 | C31: 0 | D31: 0 | E31: 0 | F31: 0 | G31: 0
A32: 45946 | B32: 0 | C32: 0 | D32: 0 | E32: 0 | F32: 0 | G32: 0
A33: 45977 | B33: 0 | C33: 0 | D33: 0 | E33: 0 | F33: 0 | G33: 0
A34: 46007 | B34: 0 | C34: 0 | D34: 0 | E34: 0 | F34: 0 | G34: 0
A35: 46038 | B35: 0 | C35: 0 | D35: 0 | E35: 0 | F35: 0 | G35: 0
A36: 46069 | B36: 0 | C36: 0 | D36: 0 | E36: 0 | F36: 0 | G36: 0
A37: 46097 | B37: 0 | C37: 0 | D37: 0 | E37: 0 | F37: 0 | G37: 0
A38: 46128 | B38: 0 | C38: 0 | D38: 0 | E38: 0 | F38: 0 | G38: 0
A39: 46158 | B39: 0 | C39: 0 | D39: 0 | E39: 0 | F39: 0 | G39: 0
A40: 46189 | B40: 0 | C40: 0 | D40: 0 | E40: 0 | F40: 0 | G40: 0
...

Sheet UTSLAKTET->

Sheet Skarvestein 25G
A1: ASC rapport
A2: Bedrift | E2: Lerøy Aurora
A3: Lokalitet | E3: Skarvestein
A4: Lokalitetsnummer | E4: 16736
A5: ASC status | E5: Sertifisert
A6: Sertifiseringsdato (førstegangs) | E6: 41885
A7: Siste resertifiseringsdato | E7: 45233
A8: Sertifikat gyldig til | E8: 46267
A9: Produksjonsstart | E9: 45762
A10: Produksjonsslutt | E10: 46205
A11: Siste oppdatering | E11: ='Generell info'!$B$1 -> 46279
A12: EUL 19G (kun Skarvestein) | E12: -0.006
A13: EUL 19G (prosjekt Gourtesjohka/ Kågen/ Skarvestein) | E13: -0.012
A14: EUL 21G (prosjekt) | E14: -0.008
A15: EUL 23G Skarvestein | E15: 0.023
A16: EUL 25G | E16: 0.0219
A17: Mistanke om uidentifisert agens | E17: -
A18: Påvisning av OIE-meldepliktig sykdom | E18: -
A19: Antall rømt fisk | E19: 0 | I19: Type predator
I20: Fiskemåke/Common gull (Larus canus)
I21: Gråmåke/European herring gull (Larus argentatus)
I23: Kråke/Hooded crow (Corvus cornix)
A24: Predatorer* | I24: Ravn/ Raven (Corvus corax)
A25: Måned | B25: Måke | C25: Kråke | D25: Ravn | E25: Skarv | F25: Annet | G25: Totalt | I25: Skarv/ European shag (Phalacrocorax aristotelis)
A26: 45762 | B26: 0 | C26: 0 | D26: 0 | E26: 0 | F26: 0 | G26: 0 | I26: Ærfugl/Common eider (Somateria mollissima)
A27: 45792 | B27: 0 | C27: 0 | D27: 0 | E27: 0 | F27: 0 | G27: 0 | I27: Stokkand/Mallard (Anas platyrhynchos)
A28: 45823 | B28: 0 | C28: 0 | D28: 0 | E28: 0 | F28: 0 | G28: 0 | I28: Makrellterne/Common tern (Sterna hirundo)
A29: 45853 | B29: 0 | C29: 0 | D29: 0 | E29: 0 | F29: 0 | G29: 0 | I29: Rødnebbterne/Arctic tern (Sterna paradisaea)
A30: 45884 | B30: 1 (19.08) selvdød | C30: 0 | D30: 0 | E30: 0 | F30: 0 | G30: 1 | I30: Alkekonge/Little auk (Alle alle)
A31: 45915 | B31: 1 (11.09) selvdød | C31: 0 | D31: 0 | E31: 0 | F31: 0 | G31: 1
A32: 45931 | B32: 1 (03.10), 2 (08.10) selvdøde | C32: 0 | D32: 0 | E32: 0 | F32: 0 | G32: 3
A33: 45962 | B33: 0 | C33: 0 | D33: 0 | E33: 0 | F33: 0 | G33: 0
A34: 45992 | B34: 0 | C34: 0 | D34: 0 | E34: 0 | F34: 0 | G34: 0
A35: 46023 | B35: 0 | C35: 0 | D35: 0 | E35: 0 | F35: 0 | G35: 0
A36: 46054 | B36: 0 | C36: 0 | D36: 0 | E36: 0 | F36: 0 | G36: 0
A37: 46082 | B37: 0 | C37: 0 | D37: 0 | E37: 0 | F37: 0 | G37: 0
A38: 46113 | B38: 1 ( 27.04) | C38: 0 | D38: 0 | E38: 0 | F38: 0 | G38: 1 | H38: ID 994761
A39: 46143 | B39: 0 | C39: 0 | D39: 0 | E39: 0 | F39: 0 | G39: 0
A40: 46174 | B40: 0 | C40: 0 | D40: 0 | E40: 0 | F40: 0 | G40: 0
A42: *Predatorer (fugler) må av og til avlives på grunn av at de har satt seg fast i fuglenett eller blitt skadet på annen måte i og rundt anleggene.
...

Sheet Årøya 24G
A1: ASC rapport
A2: Bedrift | E2: Lerøy Aurora
A3: Lokalitet | E3: Årøya
A4: Lokalitetsnummer | E4: 10735
A5: ASC status | E5: Sertifisert
A6: Sertifiseringsdato (førstegangs) | E6: 41673
A7: Siste resertifiseringsdato | E7: 45103
A8: Sertifikat gyldig til | E8: 47294
A9: Produksjonsstart | E9: 45599
A10: Produksjonsslutt | E10: 46163
A11: Siste oppdatering | E11: ='Generell info'!$B$1 -> 46279
A12: EUL - 14G (prosjekt) | E12: -0.015
A13: EUL - 17G (prosjekt Årøya, Kågen og Kåvika) | E13: 0.017
A14: EUL - 17G (kun en merd) | E14: 0.004
A15: EUL - 18G (prosjekt Årøya, Skarvestein og Kåvika) | E15: 0.008
A16: EUL - 19G (all fisk flyttet til Vorterøya og Follesøy) | E16: -0.002
A17: EUL - 20G | E17: 0.003
A18: EUL - 22G | E18: 0.005
A19: EUL - 24G | B19: (Prosjekt Årøya/Gourtesjouka) | E19: 0.0068
A20: Mistanke om uidentifisert agens | E20: -
A21: Påvisning av OIE-meldepliktig sykdom | E21: -
A22: Antall rømt fisk | E22: 0
A24: Predatorer*
A25: Måned | B25: Måke | C25: Kråke | D25: Ravn | E25: Skarv | F25: annet | G25: Totalt
A26: 45597 | B26: 0 | C26: 2 (28.11) | D26: 0 | E26: 0 | F26: 0 | G26: 2
A27: 45627 | B27: 0 | C27: 0 | D27: 0 | E27: 0 | F27: 0 | G27: 0 | J27: Type predator
A28: 45658 | B28: 0 | C28: 0 | D28: 0 | E28: 0 | F28: 0 | G28: 0 | J28: Fiskemåke/Common gull (Larus canus)
A29: 45689 | B29: 0 | C29: 0 | D29: 0 | E29: 0 | F29: 0 | G29: 0 | J29: Gråmåke/European herring gull (Larus argentatus)
A30: 45717 | B30: 0 | C30: 0 | D30: 0 | E30: 0 | F30: 0 | G30: 0
A31: 45748 | B31: 0 | C31: 0 | D31: 0 | E31: 0 | F31: 0 | G31: 0 | J31: Kråke/Hooded crow (Corvus cornix)
A32: 45778 | B32: 0 | C32: 0 | D32: 0 | E32: 0 | F32: 0 | G32: 0 | J32: Ravn/ Raven (Corvus corax)
A33: 45809 | B33: 0 | C33: 0 | D33: 0 | E33: 0 | F33: 0 | G33: 0 | J33: Skarv/ European shag (Phalacrocorax aristotelis)
A34: 45839 | B34: 0 | C34: 0 | D34: 0 | E34: 0 | F34: 0 | G34: 0 | J34: Ærfugl/Common eider (Somateria mollissima)
A35: 45870 | B35: 0 | C35: 0 | D35: 0 | E35: 0 | F35: 0 | G35: 0 | J35: Stokkand/Mallard (Anas platyrhynchos)
A36: 45901 | B36: 0 | C36: 0 | D36: 0 | E36: 0 | F36: 0 | G36: 0 | J36: Makrellterne/Common tern (Sterna hirundo)
A37: 45931 | B37: 0 | C37: 0 | D37: 0 | E37: 0 | F37: 0 | G37: 0 | J37: Rødnebbterne/Arctic tern (Sterna paradisaea)
A38: 45962 | B38: 0 | C38: 0 | D38: 0 | E38: 0 | F38: 0 | G38: 0 | J38: Alkekonge/Little auk (Alle alle)
A39: 45992 | B39: 0 | C39: 0 | D39: 0 | E39: 0 | F39: 0 | G39: 0
A40: 46023 | B40: 0 | C40: 0 | D40: 0 | E40: 0 | F40: 0 | G40: 0
A41: 46054 | B41: 0 | C41: 0 | D41: 0 | E41: 0 | F41: 0 | G41: 0
...

Sheet Karanes 24G
A1: ASC rapport
A2: Bedrift | E2: Lerøy Aurora
A3: Lokalitet | E3: Karanes
A4: Lokalitetsnummer | E4: 10759
A5: ASC status | E5: Sertifisert
A6: Sertifiseringsdato (førstegangs) | E6: 41885
A7: Siste resertifiseringsdato | E7: 44077
A8: Sertifikat gyldig til | E8: 46267
A9: Produksjonsstart | E9: 45601
A10: Produksjonsslutt | E10: 46045
A11: Siste oppdatering | E11: ='Generell info'!$B$1 -> 46279
A12: EUL 13G | E12: -0.0291
A13: EUL 15G | E13: -0.052
A14: EUL 16G | E14: -0.011
A15: EUL 16G (prosjekt Gourtesjohka, Dåvøya og Karanes) | E15: -0.013
A16: EUL 18 G | E16: 0.005
A17: EUL 18 G (prosjekt Karanes og Dåvøya) | E17: 0.007
A18: EUL 20G Karanes | E18: -0.031
A19: EUL 22G | E19: 0.018 | J19: Type predator
A20: EUL 24 G | E20: -0.0279 | J20: Fiskemåke/Common gull (Larus canus)
A21: Mistanke om uidentifisert agens | E21: - | J21: Gråmåke/European herring gull (Larus argentatus)
A22: Påvisning av OIE-meldepliktig sykdom | E22: - | J22: Kråke/Hooded crow (Corvus cornix)
A23: Antall rømt fisk | E23: 0 | J23: Ravn/ Raven (Corvus corax)
J24: Skarv/ European shag (Phalacrocorax aristotelis)
J25: Ærfugl/Common eider (Somateria mollissima)
A26: Predatorer* | F26: annet | G26: Totalt | J26: Stokkand/Mallard (Anas platyrhynchos)
A27: Måned | B27: Måke | C27: Kråke | D27: Ravn | E27: Skarv | F27: 0 | G27: 0 | J27: Makrellterne/Common tern (Sterna hirundo)
A28: 45601 | B28: 0 | C28: 0 | D28: 0 | E28: 0 | F28: 0 | G28: 0 | J28: Rødnebbterne/Arctic tern (Sterna paradisaea)
A29: 45631 | B29: 0 | C29: 0 | D29: 0 | E29: 0 | F29: 0 | G29: 0 | J29: Alkekonge/Little auk (Alle alle)
A30: 45662 | B30: 0 | C30: 0 | D30: 0 | E30: 0 | F30: 0 | G30: 0
A31: 45693 | B31: 0 | C31: 0 | D31: 0 | E31: 0 | F31: 0 | G31: 0
A32: 45721 | B32: 0 | C32: 0 | D32: 0 | E32: 0 | F32: 0 | G32: 0
A33: 45752 | B33: 0 | C33: 0 | D33: 0 | E33: 0 | F33: 0 | G33: 0
A34: 45782 | B34: 0 | C34: 0 | D34: 0 | E34: 0 | F34: 0 | G34: 0
A35: 45813 | B35: 0 | C35: 0 | D35: 0 | E35: 0 | F35: 0 | G35: 0
A36: 45843 | B36: 0 | C36: 0 | D36: 0 | E36: 0 | F36: 0 | G36: 0
A37: 45874 | B37: 0 | C37: 0 | D37: 0 | E37: 0 | F37: 0 | G37: 0
A38: 45905 | B38: 0 | C38: 0 | D38: 0 | E38: 0 | F38: 0 | G38: 0
A39: 45935 | B39: 0 | C39: 0 | D39: 0 | E39: 0 | F39: 0 | G39: 0
A40: 45966 | B40: 0 | C40: 0 | D40: 0 | E40: 0 | F40: 0 | G40: 0
...

Sheet Gourtesjohka 24G
A1: ASC rapport
A2: Bedrift | E2: Lerøy Aurora
A3: Lokalitet | E3: Gourtesjohka
A4: Lokalitetsnummer | E4: 10734
A5: ASC status | E5: Sertifisert
A6: Sertifiseringsdato (førstegangs) | E6: 41736
A7: Siste resertifiseringsdato | E7: 45103
A8: Sertifkat gyldig til | E8: 46198
A9: Produksjonsstart | E9: 45833 | F9: Splitt fra Årøya med utsett på Gourtesjohka 03.11.24.
A10: Produksjonsslutt | E10: 46038
A11: Siste oppdatering | E11: ='Generell info'!$B$1 -> 46279
A12: EUL forrige generasjonen | E12: -0.014
A13: EUL - prosjekt 14G (Gourtesjohka/Årøya) | E13: -0.015
A14: EUL - prosjekt 16G (Gourtesjohka/Karanes/Dåvøya) | E14: -0.013
A15: EUL (Gourtesjohka, en merd) | E15: Flyttet | I15: Type predator
A16: EUL - prosjekt 17G (Gourtesjohka/Follesøy/Vorterøya) | E16: 0.015 | I16: Fiskemåke/Common gull (Larus canus)
A17: EUL - 19G Gourtesjohka | E17: -0.011 | I17: Gråmåke/European herring gull (Larus argentatus)
A18: EUL - prosjekt 19G (Gourtesjohka/Kågen/ Skarvestein | E18: -0.012 | I18: Kråke/Hooded crow (Corvus cornix)
A19: EUL - 21G Gourtesjohka | E19: -0.013 | I19: Ravn/ Raven (Corvus corax)
A20: EUL - 22G Gourtesjohka | E20: 0.012 | I20: Skarv/ European shag (Phalacrocorax aristotelis)
A21: EUL - 24G Gourtesjohka | E21: -0.0039 | I21: Ærfugl/Common eider (Somateria mollissima)
A22: Mistanke om uidentifisert agens | E22: -
A23: Påvisning av OIE-meldepliktig sykdom | E23: - | I23: Stokkand/Mallard (Anas platyrhynchos)
A24: Antall rømt fisk | E24: 0 | I24: Makrellterne/Common tern (Sterna hirundo)
I25: Rødnebbterne/Arctic tern (Sterna paradisaea)
I26: Alkekonge/Little auk (Alle alle)
A27: Predatorer*
A28: Gourtesjohka 21G | B28: Måke | C28: Kråke | D28: Ravn | E28: Skarv | F28: annet | G28: Totalt
A29: 45839 | B29: 0 | C29: 0 | D29: 0 | E29: 0 | F29: 0 | G29: 0
A30: 45870 | B30: 0 | C30: 0 | D30: 0 | E30: 0 | F30: 0 | G30: 0
A31: 45901 | B31: 0 | C31: 0 | D31: 0 | E31: 0 | F31: 0 | G31: 0
A32: 45931 | B32: 0 | C32: 0 | D32: 0 | E32: 0 | F32: 0 | G32: 0
A33: 45962 | B33: 0 | C33: 0 | D33: 0 | E33: 0 | F33: 0 | G33: 0
A34: 45992 | B34: 0 | C34: 0 | D34: 0 | E34: 0 | F34: 0 | G34: 0
A35: 46023 | B35: 0 | C35: 0 | D35: 0 | E35: 0 | F35: 3 (gjenfangstgarn) | G35: 3
A36: 46054 | B36: 0 | C36: 0 | D36: 0 | E36: 0 | F36: 0 | G36: 0
A38: *Predatorer (fugler) må av og til avlives på grunn av at de har satt seg fast i fuglenett eller blitt skadet på annen måte i og rundt anleggene.
A41: Lakselus - telles og rapporteres i henhold til myndighetskrav
A42: Oversikt BarentsWatch: | C42: Lokalitet Gourtesjouka 10734

Sheet Dåvøya 24G
A1: EUL
A2: Lokalitetsnummer | E2: 10757
A3: ASC status | E3: Sertifisert
A4: Sertifiseringsdato | E4: 42982
A5: Siste resertifiseringsdato | E5: 45173
A6: Sertifikat gyldig til | E6: 46269
A7: Produksjonsstart | E7: 45592
A8: Produksjonsslutt | E8: 45996
A9: Siste oppdatering | E9: ='Generell info'!$B$1 -> 46279
A10: EUL 16G | E10: -0.014
A11: EUL 16G (hele prosjektet) | E11: -0.013 | F11: Gourtesjohka, Dåvøya og Karanes
A12: EUL 18G | E12: 0.009
A13: EUL 18G (prosjekt Dåvøya og Karanes) | E13: 0.007
A14: EUL 20G | E14: -0.105
A15: EUL 22G | E15: 0.008
A16: EUL 24G | E16: -0.0336
A17: Mistanke om uidentifisert agens | E17: -
A18: Påvisning av OIE-meldepliktig sykdom | E18: ILA
A19: Antall rømt fisk | E19: 0 | J19: Type predator
J20: Fiskemåke/Common gull (Larus canus)
J21: Gråmåke/European herring gull (Larus argentatus)
A22: Predatorer* | F22: annet | G22: Totalt | J22: Kråke/Hooded crow (Corvus cornix)
A23: Måned | B23: Måke | C23: Kråke | D23: Ravn | E23: Skarv | F23: 0 | G23: 0 | J23: Ravn/ Raven (Corvus corax)
A24: 45592 | B24: 0 | C24: 0 | D24: 0 | E24: 0 | F24: 0 | G24: 1 | J24: Skarv/ European shag (Phalacrocorax aristotelis)
A25: 45623 | B25: 1 (gråmåke) | C25: 0 | D25: 0 | E25: 0 | F25: 0 | G25: 0 | J25: Ærfugl/Common eider (Somateria mollissima)
A26: 45653 | B26: 0 | C26: 0 | D26: 0 | E26: 0 | F26: 0 | G26: 0 | J26: Stokkand/Mallard (Anas platyrhynchos)
A27: 45684 | B27: 0 | C27: 0 | D27: 0 | E27: 0 | F27: 0 | G27: 0 | J27: Makrellterne/Common tern (Sterna hirundo)
A28: 45715 | B28: 0 | C28: 0 | D28: 0 | E28: 0 | F28: 0 | G28: 0 | J28: Rødnebbterne/Arctic tern (Sterna paradisaea)
A29: 45743 | B29: 0 | C29: 0 | D29: 0 | E29: 0 | F29: 0 | G29: 0 | J29: Alkekonge/Little auk (Alle alle)
A30: 45774 | B30: 0 | C30: 0 | D30: 0 | E30: 0 | F30: 0 | G30: 0
A31: 45804 | B31: 0 | C31: 0 | D31: 0 | E31: 0 | F31: 0 | G31: 0
A32: 45835 | B32: 0 | C32: 0 | D32: 0 | E32: 0 | F32: 0 | G32: 0
A33: 45865 | B33: 0 | C33: 0 | D33: 0 | E33: 0 | F33: 0 | G33: 0
A34: 45896 | B34: 0 | C34: 0 | D34: 0 | E34: 0 | F34: 0 | G34: 0
A35: 45927 | B35: 0 | C35: 0 | D35: 0 | E35: 0 | F35: 0 | G35: 0
A36: 45957 | B36: 0 | C36: 0 | D36: 0 | E36: 0
A40: *Predatorer (fugler) må av og til avlives på grunn av at de har satt seg fast i fuglenett eller blitt skadet på annen måte i og rundt anleggene.
A43: Lakselus - telles og rapporteres i henhold til myndighetskrav
A45: Oversikt BarentsWatch: | C45: https://www.barentswatch.no/fiskehelse/locality/10757/2019/6

Sheet Mjønes 24G
A1: ASC rapport
A2: Bedrift | E2: Lerøy Aurora
A3: Lokalitet | E3: Mjønes
A4: Lokalitetsnummer | E4: 36257
A5: ASC status | E5: Sertifisert
A6: Sertifiseringsdato (førstegangs) | E6: 43886
A7: Resertifiseringsdato | E7: 44983
A8: Sertifikat gyldig til | E8: 46078
A9: Produksjonsstart | E9: 45532
A10: Produksjonsslutt | E10: 45944
A11: Siste oppdatering | E11: ='Generell info'!$B$1 -> 46279
A12: EUL - Mjønes 18G | E12: -0.003
A13: EUL - prosjekt (Langås/ Mjønes) 18G | E13: -0.015
A14: EUL - Mjønes 20G | E14: 5.9%
A15: EUL - Mjønes 22G | E15: 0.02
A16: EUL - Mjønes 24G | E16: -0.0043
A17: Mistanke om uidentifisert agens | E17: -
A18: Påvisning av OIE-meldepliktig sykdom | J18: Type predator
A19: Antall rømt fisk | E19: 0 | J19: Fiskemåke/Common gull (Larus canus)
J20: Gråmåke/European herring gull (Larus argentatus)
A21: Predatorer* | J21: Kråke/Hooded crow (Corvus cornix)
A22: Måned | B22: Måke | C22: Kråke | D22: Ravn | E22: Skarv | F22: annet | G22: Totalt | J22: Ravn/ Raven (Corvus corax)
A23: 45532 | B23: 0 | C23: 0 | D23: 0 | E23: 0 | F23: 0 | G23: 0 | J23: Skarv/ European shag (Phalacrocorax aristotelis)
A24: 45563 | B24: 0 | C24: 0 | D24: 0 | E24: 0 | F24: 0 | G24: 0 | J24: Ærfugl/Common eider (Somateria mollissima)
A25: 45593 | B25: 0 | C25: 0 | D25: 0 | E25: 0 | F25: 0 | G25: 0 | J25: Stokkand/Mallard (Anas platyrhynchos)
A26: 45624 | B26: 0 | C26: 0 | D26: 0 | E26: 0 | F26: 0 | G26: 0 | J26: Makrellterne/Common tern (Sterna hirundo)
A27: 45654 | B27: 0 | C27: 0 | D27: 0 | E27: 0 | F27: 0 | G27: 0 | J27: Rødnebbterne/Arctic tern (Sterna paradisaea)
A28: 45685 | B28: 0 | C28: 0 | D28: 0 | E28: 0 | F28: 0 | G28: 0 | J28: Alkekonge/Little auk (Alle alle)
A29: 45716 | B29: 0 | C29: 0 | D29: 0 | E29: 0 | F29: 0 | G29: 0
A30: 45747 | B30: 0 | C30: 0 | D30: 0 | E30: 0 | F30: 0 | G30: 0
A31: 45778 | B31: 0 | C31: 0 | D31: 0 | E31: 0 | F31: 0 | G31: 0
A32: 45809 | B32: 0 | C32: 0 | D32: 0 | E32: 0 | F32: 0 | G32: 0
A33: 45840 | B33: 0 | C33: 0 | D33: 0 | E33: 0 | F33: 0 | G33: 0
A34: 45870 | B34: 0 | C34: 0 | D34: 0 | E34: 0 | F34: 0 | G34: 0
A35: 45901 | B35: 2 (01.09) selvdød | C35: 0 | D35: 0 | E35: 0 | F35: 0 | G35: 2
A36: 45931 | B36: 0 | C36: 0 | D36: 0 | E36: 0 | F36: 0 | G36: 0
A39: *Predatorer (fugler) må av og til avlives på grunn av at de har satt seg fast i fuglenett eller blitt skadet på annen måte i og rundt anleggene.
A42: Lakselus - telles og rapporteres i henhold til myndighetskrav
A44: Oversikt BarentsWatch | C44: Lokalitet Mjønes 36257

Sheet Oterfjorden 24G
A1: ASC rapport
A2: Bedrift | E2: Lerøy Aurora
A3: Lokalitet | E3: Oterfjorden
A4: Lokalitetsnummer | E4: 13691
A5: ASC status | E5: Sertifisert
A6: Sertifiseringsdato (førstegangs) | E6: 44439 | J6: Type predator
A7: Siste resertifiseringsdato | E7: 45629 | J7: Fiskemåke/Common gull (Larus canus)
A8: Sertifikat gyldig til | E8: 46723 | J8: Gråmåke/European herring gull (Larus argentatus)
A9: Produksjonsstart | E9: 45452 | J9: Kråke/Hooded crow (Corvus cornix)
A10: Produksjonsslutt | E10: 45940 | J10: Ravn/ Raven (Corvus corax)
A11: Siste oppdatering | E11: ='Generell info'!$B$1 -> 46279 | J11: Skarv/ European shag (Phalacrocorax aristotelis)
A12: EUL 13G Oterfjorden | E12: -0.008 | J12: Ærfugl/Common eider (Somateria mollissima)
A13: EUL 13G prosjekt (Oterfjorden/ Storbukt) | E13: -0.01 | J13: Stokkand/Mallard (Anas platyrhynchos)
A14: EUL 20G | E14: 0.004 | J14: Makrellterne/Common tern (Sterna hirundo)
A15: EUL 24G Oterfjorden | E15: -0.0028 | J15: Rødnebbterne/Arctic tern (Sterna paradisaea)
A16: Mistanke om uidentifisert agens | E16: - | J16: Alkekonge/Little auk (Alle alle)
A17: Påvisning av OIE-meldepliktig sykdom
A18: Antall rømt fisk | E18: 0
A20: Predatorer*
A21: Måned | B21: Måke | C21: Kråke | D21: Ravn | E21: Skarv | F21: annet | G21: Totalt
A22: 45444 | B22: 0 | C22: 0 | D22: 0 | E22: 0 | F22: 0 | G22: 0
A23: 45474 | B23: 0 | C23: 0 | D23: 0 | E23: 0 | F23: 0 | G23: 0
A24: 45505 | B24: 0 | C24: 0 | D24: 0 | E24: 0 | F24: 0 | G24: 0
A25: 45536 | B25: 0 | C25: 0 | D25: 0 | E25: 0 | F25: 0 | G25: 0
A26: 45566 | B26: 0 | C26: 0 | D26: 0 | E26: 0 | F26: 0 | G26: 0
A27: 45597 | B27: 0 | C27: 0 | D27: 0 | E27: 0 | F27: 0 | G27: 0
A28: 45627 | B28: 0 | C28: 0 | D28: 0 | E28: 0 | F28: 0 | G28: 0
A29: 45658 | B29: 1 (19.01) | C29: 0 | D29: 0 | E29: 0 | F29: 0 | G29: 1
A30: 45689 | B30: 0 | C30: 0 | D30: 0 | E30: 0 | F30: 0 | G30: 0
A31: 45717 | B31: 0 | C31: 0 | D31: 0 | E31: 0 | F31: 0 | G31: 0
A32: 45748 | B32: 0 | C32: 0 | D32: 0 | E32: 0 | F32: 0 | G32: 0
A33: 45778 | B33: 0 | C33: 0 | D33: 0 | E33: 0 | F33: 0 | G33: 0
A34: 45809 | B34: 0 | C34: 0 | D34: 0 | E34: 0 | F34: 0 | G34: 0
A35: 45839 | B35: 0 | C35: 0 | D35: 0 | E35: 0 | F35: 0 | G35: 0
A36: 45870 | B36: 0 | C36: 0 | D36: 0 | E36: 0 | F36: 0 | G36: 0
A37: 45901 | B37: 0 | C37: 0 | D37: 0 | E37: 0 | F37: 0 | G37: 0
A38: 45931 | B38: 0 | C38: 0 | D38: 0 | E38: 0 | F38: 0 | G38: 0
A41: *Predatorer (fugler) må av og til avlives på grunn av at de har satt seg fast i fuglenett eller blitt skadet på annen måte i og rundt anleggene.
A44: Lakselus - telles og rapporteres i henhold til myndighetskrav
A46: Oversikt BarentsWatch: | C46: https://www.barentswatch.no/fiskehelse/locality/13691/2021/17

Sheet Solheim 24G
A1: ASC rapport
A2: Bedrift | E2: Lerøy Aurora
A3: Lokalitet | E3: Solheim
A4: Lokalitetsnummer | E4: 27476
A5: ASC status | E5: Sertifisert
A6: Sertifiseringsdato (førstegangs) | E6: 41736
A7: Siste resertifiseringsdato | E7: 45103
A8: Sertifikat gyldig til | E8: 46198
A9: Produksjonsstart | E9: 45489
A10: Produksjonsslutt | E10: 45961
A11: Siste oppdatering | E11: ='Generell info'!$B$1 -> 46279
A12: EUL forrige generasjon | E12: 0.015
A13: EUL - 15G generasjon | E13: 0.037
A14: EUL - prosjekt 15G (Solheim/Strandmo) | E14: 0.035
A15: EUL - 17G Solheim | E15: -0.6
A16: EUL - 17G Prosjekt (Solheim/Strandmo) | E16: -0.002
A17: EUL - 19G Prosjekt (Solheim/Strandmo) | E17: 0.022
A18: EUL - 19G Solheim | E18: 0.026
A19: EUL - 22G Solheim | E19: -0.0157 | I19: Type predator
A20: EUL - 24G Solheim | E20: -0.0001 | I20: Fiskemåke/Common gull (Larus canus)
A21: Mistanke om uidentifisert agens | I21: Gråmåke/European herring gull (Larus argentatus)
A22: Påvisning av OIE-meldepliktig sykdom | I22: Kråke/Hooded crow (Corvus cornix)
A23: Antall rømt fisk | E23: 0 | I23: Ravn/ Raven (Corvus corax)
I24: Skarv/ European shag (Phalacrocorax aristotelis)
I25: Ærfugl/Common eider (Somateria mollissima)
A26: Predatorer* | I26: Stokkand/Mallard (Anas platyrhynchos)
A27: Solheim 22G | B27: Måke | C27: Kråke | D27: Ravn | E27: Skarv | F27: annet | G27: Totalt | I27: Makrellterne/Common tern (Sterna hirundo)
A28: 45484 | B28: 0 | C28: 0 | D28: 0 | E28: 0 | F28: 0 | G28: 0 | I28: Rødnebbterne/Arctic tern (Sterna paradisaea)
A29: 45515 | B29: 0 | C29: 0 | D29: 0 | E29: 0 | F29: 0 | G29: 0 | I29: Alkekonge/Little auk (Alle alle)
A30: 45546 | B30: 0 | C30: 0 | D30: 0 | E30: 0 | F30: 0 | G30: 0
A31: 45576 | B31: 0 | C31: 0 | D31: 0 | E31: 0 | F31: 0 | G31: 0
A32: 45607 | B32: 0 | C32: 0 | D32: 0 | E32: 0 | F32: 0 | G32: 0
A33: 45637 | B33: 0 | C33: 0 | D33: 0 | E33: 0 | F33: 0 | G33: 0
A34: 45668 | B34: 0 | C34: 0 | D34: 0 | E34: 0 | F34: 0 | G34: 0
A35: 45699 | B35: 0 | C35: 0 | D35: 0 | E35: 0 | F35: 0 | G35: 0
A36: 45727 | B36: 0 | C36: 0 | D36: 0 | E36: 0 | F36: 0 | G36: 0
A37: 45758 | B37: 0 | C37: 0 | D37: 0 | E37: 0 | F37: 0 | G37: 0
A38: 45788 | B38: 0 | C38: 0 | D38: 0 | E38: 0 | F38: 0 | G38: 0
A39: 45819 | B39: 0 | C39: 0 | D39: 0 | E39: 0 | F39: 0 | G39: 0
A40: 45849 | B40: 0 | C40: 0 | D40: 0 | E40: 0 | F40: 0 | G40: 0
...

Sheet Lausklubben 24G
A1: ASC rapport
A2: Bedrift | E2: Lerøy Aurora
A3: Lokalitet | E3: Lausklubben
A4: Lokalitetsnummer | E4: 10753
A5: ASC status | E5: Sertifisert | J5: Type predator
A6: Sertifiseringsdato (førstegangs) | E6: 44907 | J6: Fiskemåke/Common gull (Larus canus)
A7: Siste resertifiseringsdato | E7: 44907 | J7: Gråmåke/European herring gull (Larus argentatus)
A8: Sertifikat gyldig til | E8: 46002 | J8: Kråke/Hooded crow (Corvus cornix)
A9: Produksjonsstart | E9: 45444 | J9: Ravn/ Raven (Corvus corax)
A10: Siste produksjonsslutt | E10: 45914 | J10: Skarv/ European shag (Phalacrocorax aristotelis)
A11: Siste oppdatering | E11: ='Generell info'!$B$1 -> 46279 | J11: Ærfugl/Common eider (Somateria mollissima)
A12: EUL 22G | E12: -0.001 | J12: Stokkand/Mallard (Anas platyrhynchos)
A13: EUL 24G | E13: 0.0003 | J13: Makrellterne/Common tern (Sterna hirundo)
A14: Mistanke om uidentifisert agens | E14: - | J14: Rødnebbterne/Arctic tern (Sterna paradisaea)
A15: Påvisning av OIE-meldepliktig sykdom | E15: - | J15: Alkekonge/Little auk (Alle alle)
A16: Antall rømt fisk | E16: 0
A19: Predatorer* | F19: annet | G19: Totalt
A20: Måned | B20: Måke | C20: Kråke | D20: Ravn | E20: Skarv | F20: 0 | G20: =SUM(B19:F19) -> 0
A21: 45456 | B21: 0 | C21: 0 | D21: 0 | E21: 0 | F21: 0 | G21: =SUM(B20:F20) -> 0
A22: 45486 | B22: 0 | C22: 0 | D22: 0 | E22: 0 | F22: 0 | G22: =SUM(B21:F21) -> 0
A23: 45517 | B23: 0 | C23: 0 | D23: 0 | E23: 0 | F23: 0 | G23: =SUM(B22:F22) -> 0
A24: 45548 | B24: 0 | C24: 0 | D24: 0 | E24: 0 | F24: 0 | G24: =SUM(B23:F23) -> 0
A25: 45578 | B25: 0 | C25: 0 | D25: 0 | E25: 0 | F25: 0 | G25: =SUM(B24:F24) -> 0
A26: 45609 | B26: 0 | C26: 0 | D26: 0 | E26: 0 | F26: 0 | G26: =SUM(B25:F25) -> 0
A27: 45639 | B27: 0 | C27: 0 | D27: 0 | E27: 0 | F27: 0 | G27: =SUM(B26:F26) -> 0
A28: 45670 | B28: 0 | C28: 0 | D28: 0 | E28: 0 | F28: 0 | G28: =SUM(B27:F27) -> 0
A29: 45701 | B29: 0 | C29: 0 | D29: 0 | E29: 0 | F29: 0 | G29: =SUM(B28:F28) -> 0
A30: 45729 | B30: 0 | C30: 0 | D30: 0 | E30: 0 | F30: 0 | G30: =SUM(B29:F29) -> 0
A31: 45760 | B31: 0 | C31: 0 | D31: 0 | E31: 0 | F31: 0 | G31: =SUM(B30:F30) -> 0
A32: 45790 | B32: 0 | C32: 0 | D32: 0 | E32: 0 | F32: 0 | G32: =SUM(B31:F31) -> 0
A33: 45821 | B33: 0 | C33: 0 | D33: 0 | E33: 0 | F33: 0 | G33: 0
A34: 45839 | B34: 0 | C34: 0 | D34: 0 | E34: 0 | F34: 0 | G34: 0
A35: 45870 | B35: 0 | C35: 0 | D35: 0 | E35: 0 | F35: 0 | G35: 0
A36: 45901 | B36: 0 | C36: 0 | D36: 0 | E36: 0
A38: *Predatorer (fugler) må av og til avlives på grunn av at de har satt seg fast i fuglenett eller blitt skadet på annen måte i og rundt anleggene.
A41: Lakselus - telles og rapporteres i henhold til myndighetskrav
A43: Oversikt BarentsWatch: | C43: Lausklubben (33777) | Fiskehelse Uke 46, 2022 - BarentsWatch

Sheet Latvika 24G
A1: ASC rapport
A2: Bedrift | E2: Lerøy Aurora
A3: Lokalitet | E3: Latvika
A4: Lokalitetsnummer | E4: 15957 | J4: Type predator
A5: ASC status | E5: Sertifisert | J5: Fiskemåke/Common gull (Larus canus)
A6: Sertifiseringsdato (førstegangs) | E6: 44414 | J6: Gråmåke/European herring gull (Larus argentatus)
A7: Siste resertifiseringsdato | E7: 45628 | J7: Kråke/Hooded crow (Corvus cornix)
A8: Sertifikat gyldig til | E8: 46722 | J8: Ravn/ Raven (Corvus corax)
A9: Produksjonsstart | E9: 45447 | J9: Skarv/ European shag (Phalacrocorax aristotelis)
A10: Produksjonsslutt | E10: 45902 | J10: Ærfugl/Common eider (Somateria mollissima)
A11: Siste oppdatering | E11: ='Generell info'!$B$1 -> 46279 | J11: Stokkand/Mallard (Anas platyrhynchos)
A12: EUL 17G Latvika | E12: 0.004 | J12: Makrellterne/Common tern (Sterna hirundo)
A13: EUL 17G prosjekt (Latvika/ Storbukt) | E13: -0.02 | J13: Rødnebbterne/Arctic tern (Sterna paradisaea)
A14: EUL Latvika 20G | E14: 0.003 | J14: Alkekonge/Little auk (Alle alle)
